BEGIN:VCALENDAR
VERSION:2.0
PRODID:-//Plone.org//NONSGML plone.app.event//EN
X-WR-TIMEZONE:US/Pacific
BEGIN:VEVENT
SUMMARY:Social: Two-Person Glacier Travel and Solo Crevasse Rescue - Mount
 aineers Seattle Program Center
DTSTART;VALUE=DATE:20200109
DTEND;VALUE=DATE:20200110
DTSTAMP;VALUE=DATE-TIME:20260421T143101Z
UID:63511fad370c4efe856f505b223deee3
CATEGORIES:Climbing
DESCRIPTION:Hands-on crevasse rescue practice in 2-person teams for 2nd an
 d higher-year Intermediate Students and Climb Leaders.
LOCATION:Mountaineers Seattle Program Center
URL:https://www.mountaineers.org/locations-lodges/seattle-branch/committee
 s/seattle-climbing-committee/seminars-clinics/glacier-climbing-in-teams-of
 -2-mountaineers-seattle-program-center
END:VEVENT
END:VCALENDAR
