BEGIN:VCALENDAR
VERSION:2.0
PRODID:-//Plone.org//NONSGML plone.app.event//EN
X-WR-TIMEZONE:US/Pacific
BEGIN:VEVENT
SUMMARY:Friction Climbing Weekend Clinic - Leavenworth
DTSTART;VALUE=DATE:20240427
DTEND;VALUE=DATE:20240428
DTSTAMP;VALUE=DATE-TIME:20260422T064227Z
UID:da96226608bb4662bd5de8102438d323
CATEGORIES:Climbing
DESCRIPTION:Friction Climbing Techniques\, Including  Leading (Safely) for
  Those Who Wish. Leavenworth
LOCATION:Leavenworth
URL:https://www.mountaineers.org/locations-lodges/seattle-branch/committee
 s/seattle-climbing-committee/seminars-clinics/friction-climbing-weekend-le
 avenworth-3
END:VEVENT
END:VCALENDAR
