BEGIN:VCALENDAR
VERSION:2.0
PRODID:-//Plone.org//NONSGML plone.app.event//EN
X-WR-TIMEZONE:US/Pacific
BEGIN:VEVENT
SUMMARY:Friction Climbing Weekend Clinic - Leavenworth
DTSTART;VALUE=DATE:20240629
DTEND;VALUE=DATE:20240630
DTSTAMP;VALUE=DATE-TIME:20260425T032625Z
UID:b6af74a97be04cb28b9ea49bf661a4cf
CATEGORIES:Climbing
DESCRIPTION:Friction Climbing Weekend Clinic\nInstructor only exploratory 
 trip
LOCATION:Leavenworth
URL:https://www.mountaineers.org/locations-lodges/seattle-branch/committee
 s/seattle-climbing-committee/seminars-clinics/friction-climbing-weekend-cl
 inic-leavenworth
END:VEVENT
END:VCALENDAR
