BEGIN:VCALENDAR
VERSION:2.0
PRODID:-//Plone.org//NONSGML plone.app.event//EN
X-WR-TIMEZONE:US/Pacific
BEGIN:VEVENT
SUMMARY:Friction Climbing:  Basic - Leavenworth
DTSTART;VALUE=DATE:20190519
DTEND;VALUE=DATE:20190520
DTSTAMP;VALUE=DATE-TIME:20260425T114448Z
UID:4578851886174889bf64bfdab59e6744
CATEGORIES:Climbing
DESCRIPTION:A full day of top-roped friction instruction and climbing on l
 ovely granite slabs in scenic Leavenworth - Sunday
LOCATION:Leavenworth
URL:https://www.mountaineers.org/locations-lodges/seattle-branch/committee
 s/seattle-climbing-committee/seminars-clinics/friction-climbing-basic-leav
 enworth-2
END:VEVENT
END:VCALENDAR
