BEGIN:VCALENDAR
VERSION:2.0
PRODID:-//Plone.org//NONSGML plone.app.event//EN
X-WR-TIMEZONE:US/Pacific
BEGIN:VEVENT
SUMMARY:Friction Climbing: Basic - Leavenworth
DTSTART;VALUE=DATE:20260530
DTEND;VALUE=DATE:20260531
DTSTAMP;VALUE=DATE-TIME:20260421T043553Z
UID:e2a12274a0f24aed914044df2cb1a2db
CATEGORIES:Climbing
DESCRIPTION:Top-rope friction instruction and climbing with Cebe W.
LOCATION:Leavenworth
URL:https://www.mountaineers.org/locations-lodges/seattle-branch/committee
 s/seattle-climbing-committee/seminars-clinics/friction-climbing-basic-leav
 enworth-10
END:VEVENT
END:VCALENDAR
