BEGIN:VCALENDAR
VERSION:2.0
PRODID:-//Plone.org//NONSGML plone.app.event//EN
X-WR-TIMEZONE:US/Pacific
BEGIN:VEVENT
SUMMARY:Friction Climbing:  Basic - Leavenworth
DTSTART;VALUE=DATE:20190421
DTEND;VALUE=DATE:20190422
DTSTAMP;VALUE=DATE-TIME:20260425T182423Z
UID:4cd2c8e66441484ca2d9dd9b75da4636
CATEGORIES:Climbing
DESCRIPTION:A full day of top-roped friction instruction and climbing on l
 ovely granite in scenic Leavenworth - Sunday
LOCATION:Leavenworth
URL:https://www.mountaineers.org/locations-lodges/seattle-branch/committee
 s/seattle-climbing-committee/seminars-clinics/friction-climbing-basic-leav
 enworth-1
END:VEVENT
END:VCALENDAR
