BEGIN:VCALENDAR
VERSION:2.0
PRODID:-//Plone.org//NONSGML plone.app.event//EN
X-WR-TIMEZONE:US/Pacific
BEGIN:VEVENT
SUMMARY:Evening Friction Climbing Clinic - Mountaineers Seattle Program Ce
 nter
DTSTART;VALUE=DATE:20240522
DTEND;VALUE=DATE:20240523
DTSTAMP;VALUE=DATE-TIME:20260422T174442Z
UID:df2c843e95204988a5ad0db7a8cfbc5a
CATEGORIES:Climbing
DESCRIPTION:Learn how to move on rock. Friction climbing clinic at the Sea
 ttle PC. Intended for this year's Basic and Scramble students but open to 
 all Mountaineers.
LOCATION:Mountaineers Seattle Program Center
URL:https://www.mountaineers.org/locations-lodges/seattle-branch/committee
 s/seattle-climbing-committee/seminars-clinics/evening-friction-climbing-cl
 inic-mountaineers-seattle-program-center-4
END:VEVENT
END:VCALENDAR
