BEGIN:VCALENDAR
VERSION:2.0
PRODID:-//Plone.org//NONSGML plone.app.event//EN
X-WR-TIMEZONE:US/Pacific
BEGIN:VEVENT
SUMMARY:Evening Friction Climbing Clinic - Mountaineers Seattle Program Ce
 nter
DTSTART;VALUE=DATE:20260430
DTEND;VALUE=DATE:20260501
DTSTAMP;VALUE=DATE-TIME:20260421T163654Z
UID:86bccfda9b0b4d32ad6d56f0af8acc1b
CATEGORIES:Climbing
DESCRIPTION:Learn how to move on rock. Friction climbing clinic at the Sea
 ttle PC. Intended for this year's Basic and Scramble students but open to 
 all Mountaineers.
LOCATION:Mountaineers Seattle Program Center
URL:https://www.mountaineers.org/locations-lodges/seattle-branch/committee
 s/seattle-climbing-committee/seminars-clinics/evening-friction-climbing-cl
 inic-mountaineers-seattle-program-center-13
END:VEVENT
END:VCALENDAR
