BEGIN:VCALENDAR
VERSION:2.0
PRODID:-//Plone.org//NONSGML plone.app.event//EN
X-WR-TIMEZONE:US/Pacific
BEGIN:VEVENT
SUMMARY:Evening Friction Climbing Clinic - Mountaineers Seattle Program Ce
 nter
DTSTART;VALUE=DATE:20190523
DTEND;VALUE=DATE:20190524
DTSTAMP;VALUE=DATE-TIME:20260425T053956Z
UID:afb6773705a645c58bf53a9e47077981
CATEGORIES:Climbing
DESCRIPTION:Evening Friction Climbing Technique Seminar for Basics\, Scram
 blers Also Welcome - Mountaineers Seattle Program Center\, 7:00 - 9:30 pm
LOCATION:Mountaineers Seattle Program Center
URL:https://www.mountaineers.org/locations-lodges/seattle-branch/committee
 s/seattle-climbing-committee/seminars-clinics/evening-friction-climbing-cl
 inic-for-basics-mountaineers-seattle-program-center-1
END:VEVENT
END:VCALENDAR
