BEGIN:VCALENDAR
VERSION:2.0
PRODID:-//Plone.org//NONSGML plone.app.event//EN
X-WR-TIMEZONE:US/Pacific
BEGIN:VEVENT
SUMMARY:Equivalency Evaluation - Mountaineers Seattle Program Center
DTSTART;VALUE=DATE:20240603
DTEND;VALUE=DATE:20240604
DTSTAMP;VALUE=DATE-TIME:20260424T015619Z
UID:c504a03c68d5442db868ab050fcd2133
CATEGORIES:Climbing
DESCRIPTION:Basic Climbing Equivalency Evaluation - Seattle
LOCATION:Mountaineers Seattle Program Center
URL:https://www.mountaineers.org/locations-lodges/seattle-branch/committee
 s/seattle-climbing-committee/seminars-clinics/equivalency-evaluation-mount
 aineers-seattle-program-center-9
END:VEVENT
END:VCALENDAR
