BEGIN:VCALENDAR
VERSION:2.0
PRODID:-//Plone.org//NONSGML plone.app.event//EN
X-WR-TIMEZONE:US/Pacific
BEGIN:VEVENT
SUMMARY:Equivalency Evaluation - Mountaineers Seattle Program Center
DTSTART;VALUE=DATE:20201019
DTEND;VALUE=DATE:20201020
DTSTAMP;VALUE=DATE-TIME:20260424T113942Z
UID:0c742f0cbe7047cf984feac0c1bee373
CATEGORIES:Climbing
DESCRIPTION:Equivalency Evaluation - Mountaineers Seattle Program Center
LOCATION:Mountaineers Seattle Program Center
URL:https://www.mountaineers.org/locations-lodges/seattle-branch/committee
 s/seattle-climbing-committee/seminars-clinics/equivalency-evaluation-mount
 aineers-seattle-program-center-8-2020-10-19
END:VEVENT
END:VCALENDAR
