BEGIN:VCALENDAR
VERSION:2.0
PRODID:-//Plone.org//NONSGML plone.app.event//EN
X-WR-TIMEZONE:US/Pacific
BEGIN:VEVENT
SUMMARY:Drytooling Meetup - Mountaineers Seattle Program Center
DTSTART;VALUE=DATE:20241105
DTEND;VALUE=DATE:20241106
DTSTAMP;VALUE=DATE-TIME:20260425T143929Z
UID:53ac9fd227064879b8174d8664c4498b
CATEGORIES:Climbing
DESCRIPTION:Are you saddened The Barn is not opening this fall? Itching to
  feel that ol' forearm screaming burn? Curious to learn more about the 'ne
 xt big thing' in climbing? Let's meetup at SPC for some indoors DT stoke!
LOCATION:Mountaineers Seattle Program Center
URL:https://www.mountaineers.org/locations-lodges/seattle-branch/committee
 s/seattle-climbing-committee/seminars-clinics/drytooling-meetup-mountainee
 rs-seattle-program-center
END:VEVENT
END:VCALENDAR
