BEGIN:VCALENDAR
VERSION:2.0
PRODID:-//Plone.org//NONSGML plone.app.event//EN
X-WR-TIMEZONE:US/Pacific
BEGIN:VEVENT
SUMMARY:Drytooling Meetup - Mountaineers Seattle Program Center
DTSTART;VALUE=DATE:20241220
DTEND;VALUE=DATE:20241221
DTSTAMP;VALUE=DATE-TIME:20260425T154537Z
UID:f0167f5b5f954152a6cb46caa220c1c6
CATEGORIES:Climbing
DESCRIPTION:Grips\, hooks\, and steins... oh my! Indoor dry tooling Meetup
  @ SPC 6-8pm
LOCATION:Mountaineers Seattle Program Center
URL:https://www.mountaineers.org/locations-lodges/seattle-branch/committee
 s/seattle-climbing-committee/seminars-clinics/drytooling-meetup-mountainee
 rs-seattle-program-center-5
END:VEVENT
END:VCALENDAR
