BEGIN:VCALENDAR
VERSION:2.0
PRODID:-//Plone.org//NONSGML plone.app.event//EN
X-WR-TIMEZONE:US/Pacific
BEGIN:VEVENT
SUMMARY:Drytooling Meetup - Mountaineers Seattle Program Center
DTSTART;VALUE=DATE:20241209
DTEND;VALUE=DATE:20241210
DTSTAMP;VALUE=DATE-TIME:20260425T172845Z
UID:c9d5e7d124d9491b915f5b5e0f9bdb89
CATEGORIES:Climbing
DESCRIPTION:Grips\, hooks\, and steins... oh my! Indoor dry tooling Meetup
  @ SP 6-8PM
LOCATION:Mountaineers Seattle Program Center
URL:https://www.mountaineers.org/locations-lodges/seattle-branch/committee
 s/seattle-climbing-committee/seminars-clinics/drytooling-meetup-mountainee
 rs-seattle-program-center-4
END:VEVENT
END:VCALENDAR
