BEGIN:VCALENDAR
VERSION:2.0
PRODID:-//Plone.org//NONSGML plone.app.event//EN
X-WR-TIMEZONE:US/Pacific
BEGIN:VEVENT
SUMMARY:Drytooling Meetup - Mountaineers Seattle Program Center
DTSTART;VALUE=DATE:20241205
DTEND;VALUE=DATE:20241206
DTSTAMP;VALUE=DATE-TIME:20260425T185844Z
UID:84d0097e2e1f43bda6378e5eb8125ad7
CATEGORIES:Climbing
DESCRIPTION:Grips\, hooks\, and steins... oh my! Indoor dry tooling Meetup
  @ SP 6-8PM
LOCATION:Mountaineers Seattle Program Center
URL:https://www.mountaineers.org/locations-lodges/seattle-branch/committee
 s/seattle-climbing-committee/seminars-clinics/drytooling-meetup-mountainee
 rs-seattle-program-center-3
END:VEVENT
END:VCALENDAR
