BEGIN:VCALENDAR
VERSION:2.0
PRODID:-//Plone.org//NONSGML plone.app.event//EN
X-WR-TIMEZONE:US/Pacific
BEGIN:VEVENT
SUMMARY:Drytooling Meetup - Mountaineers Seattle Program Center
DTSTART;VALUE=DATE:20241126
DTEND;VALUE=DATE:20241127
DTSTAMP;VALUE=DATE-TIME:20260425T175146Z
UID:eb564d5c44e642239eb9d49514933489
CATEGORIES:Climbing
DESCRIPTION:Peer-to-peer dry tooling stoke session @ SPC basement.
LOCATION:Mountaineers Seattle Program Center
URL:https://www.mountaineers.org/locations-lodges/seattle-branch/committee
 s/seattle-climbing-committee/seminars-clinics/drytooling-meetup-mountainee
 rs-seattle-program-center-2
END:VEVENT
END:VCALENDAR
