BEGIN:VCALENDAR
VERSION:2.0
PRODID:-//Plone.org//NONSGML plone.app.event//EN
X-WR-TIMEZONE:US/Pacific
BEGIN:VEVENT
SUMMARY:Drytooling Meetup - Mountaineers Seattle Program Center
DTSTART;VALUE=DATE:20241119
DTEND;VALUE=DATE:20241120
DTSTAMP;VALUE=DATE-TIME:20260425T161742Z
UID:0126db98eab841e2876df4018e1e6dd3
CATEGORIES:Climbing
DESCRIPTION:Grips\, hooks\, and steins... oh my!  Indoor dry tooling Meetu
 p @ SPC.
LOCATION:Mountaineers Seattle Program Center
URL:https://www.mountaineers.org/locations-lodges/seattle-branch/committee
 s/seattle-climbing-committee/seminars-clinics/drytooling-meetup-mountainee
 rs-seattle-program-center-1
END:VEVENT
END:VCALENDAR
