BEGIN:VCALENDAR
VERSION:2.0
PRODID:-//Plone.org//NONSGML plone.app.event//EN
X-WR-TIMEZONE:US/Pacific
BEGIN:VEVENT
SUMMARY:Crack Climbing - Mountaineers Seattle Program Center
DTSTART;VALUE=DATE:20200415
DTEND;VALUE=DATE:20200416
DTSTAMP;VALUE=DATE-TIME:20260421T044915Z
UID:1e80e7f21f894eec903cb726485a2e22
CATEGORIES:Climbing
DESCRIPTION:Crack climbing technique clinic at the Seattle Program Center 
 columns. We will have top ropes setup and help with pointers on technique.
  This is an excellent opportunity for those enrolled in the single pitch a
 nd multi pitch courses.
LOCATION:Mountaineers Seattle Program Center
URL:https://www.mountaineers.org/locations-lodges/seattle-branch/committee
 s/seattle-climbing-committee/seminars-clinics/crack-climbing-practice-moun
 taineers-seattle-program-center-12
END:VEVENT
END:VCALENDAR
