BEGIN:VCALENDAR
VERSION:2.0
PRODID:-//Plone.org//NONSGML plone.app.event//EN
X-WR-TIMEZONE:US/Pacific
BEGIN:VEVENT
SUMMARY:Crack Climbing - Mountaineers Seattle Program Center
DTSTART;VALUE=DATE:20200318
DTEND;VALUE=DATE:20200319
DTSTAMP;VALUE=DATE-TIME:20260421T031847Z
UID:ff24739b0c33463d9867e3f411f8b1b8
CATEGORIES:Climbing
DESCRIPTION:Crack climbing technique clinic at the Seattle Program Center 
 columns. We will have top ropes setup and help with pointers on technique.
  This is an excellent opportunity for those enrolled in the single pitch a
 nd multi pitch courses.
LOCATION:Mountaineers Seattle Program Center
URL:https://www.mountaineers.org/locations-lodges/seattle-branch/committee
 s/seattle-climbing-committee/seminars-clinics/copy_of_crack-climbing-pract
 ice-mountaineers-seattle-program-center-12
END:VEVENT
END:VCALENDAR
