BEGIN:VCALENDAR
VERSION:2.0
PRODID:-//Plone.org//NONSGML plone.app.event//EN
X-WR-TIMEZONE:US/Pacific
BEGIN:VEVENT
SUMMARY:Crack Climbing - Mountaineers Seattle Program Center
DTSTART;VALUE=DATE:20200325
DTEND;VALUE=DATE:20200326
DTSTAMP;VALUE=DATE-TIME:20260421T014739Z
UID:ca4a93e6b5674b28b76e8917b496d15e
CATEGORIES:Climbing
DESCRIPTION:Crack climbing technique clinic at the Seattle Program Center 
 columns. We will have top ropes setup and help with pointers on technique.
  This is an excellent opportunity for those enrolled in the single pitch a
 nd multi pitch courses.
LOCATION:Mountaineers Seattle Program Center
URL:https://www.mountaineers.org/locations-lodges/seattle-branch/committee
 s/seattle-climbing-committee/seminars-clinics/copy2_of_crack-climbing-prac
 tice-mountaineers-seattle-program-center-12
END:VEVENT
END:VCALENDAR
