BEGIN:VCALENDAR
VERSION:2.0
PRODID:-//Plone.org//NONSGML plone.app.event//EN
X-WR-TIMEZONE:US/Pacific
BEGIN:VEVENT
SUMMARY:Snow Camping Skills - Mountaineers Seattle Program Center
DTSTART;VALUE=DATE:20200212
DTEND;VALUE=DATE:20200213
DTSTAMP;VALUE=DATE-TIME:20260421T081610Z
UID:8bc9b20ac9104947b214093e7e0791df
CATEGORIES:Climbing
DESCRIPTION:An evening for some IB instructors to practice and discuss tec
 hniques
LOCATION:Mountaineers Seattle Program Center
URL:https://www.mountaineers.org/locations-lodges/seattle-branch/committee
 s/seattle-climbing-committee/seminars-clinics/climbing-skills-practice-mou
 ntaineers-seattle-program-center-9
END:VEVENT
END:VCALENDAR
