BEGIN:VCALENDAR
VERSION:2.0
PRODID:-//Plone.org//NONSGML plone.app.event//EN
X-WR-TIMEZONE:US/Pacific
BEGIN:VEVENT
SUMMARY:Climbing Conditioner - Wilderness Peak Loop
DTSTART;VALUE=DATE:20240410
DTEND;VALUE=DATE:20240411
DTSTAMP;VALUE=DATE-TIME:20260421T185926Z
UID:583279a681be4182b2d2359d4a817cda
CATEGORIES:Scrambling,Climbing
DESCRIPTION:After work conditioning hike to build fitness for the climbing
  season.
LOCATION:Wilderness Peak Loop
URL:https://www.mountaineers.org/locations-lodges/seattle-branch/committee
 s/seattle-climbing-committee/seminars-clinics/climbing-conditioner-wildern
 ess-peak-loop
END:VEVENT
END:VCALENDAR
