BEGIN:VCALENDAR
VERSION:2.0
PRODID:-//Plone.org//NONSGML plone.app.event//EN
X-WR-TIMEZONE:US/Pacific
BEGIN:VEVENT
SUMMARY:Climbing Conditioner - West Tiger Mountain No. 3 Cable Line
DTSTART;VALUE=DATE:20250415
DTEND;VALUE=DATE:20250416
DTSTAMP;VALUE=DATE-TIME:20260421T014802Z
UID:7436c1debc054141ad4b5271ffc7a4c5
CATEGORIES:Climbing
DESCRIPTION:After work conditioning hike! Get used to carrying weight uphi
 ll again in preparation for summer climbs.
LOCATION:West Tiger Mountain No. 3 Cable Line
URL:https://www.mountaineers.org/locations-lodges/seattle-branch/committee
 s/seattle-climbing-committee/seminars-clinics/climbing-conditioner-west-ti
 ger-mountain-no-3-cable-line-17
END:VEVENT
END:VCALENDAR
