BEGIN:VCALENDAR
VERSION:2.0
PRODID:-//Plone.org//NONSGML plone.app.event//EN
X-WR-TIMEZONE:US/Pacific
BEGIN:VEVENT
SUMMARY:Climbing Conditioner - West Tiger Mountain No. 3 Cable Line
DTSTART;VALUE=DATE:20250403
DTEND;VALUE=DATE:20250404
DTSTAMP;VALUE=DATE-TIME:20260421T192514Z
UID:92024d5a8c4048d8b872914ad3cdf0a1
CATEGORIES:Climbing
DESCRIPTION:After work conditioning. The Cable Line grind is more fun when
  you are suffering with friends.
LOCATION:West Tiger Mountain No. 3 Cable Line
URL:https://www.mountaineers.org/locations-lodges/seattle-branch/committee
 s/seattle-climbing-committee/seminars-clinics/climbing-conditioner-west-ti
 ger-mountain-no-3-cable-line-16
END:VEVENT
END:VCALENDAR
