BEGIN:VCALENDAR
VERSION:2.0
PRODID:-//Plone.org//NONSGML plone.app.event//EN
X-WR-TIMEZONE:US/Pacific
BEGIN:VEVENT
SUMMARY:Climbing Conditioner - West Tiger Mountain No. 3 Cable Line
DTSTART;VALUE=DATE:20250327
DTEND;VALUE=DATE:20250328
DTSTAMP;VALUE=DATE-TIME:20260424T014956Z
UID:7f1db0df517d48df9fd571ff21e1e09e
CATEGORIES:Climbing
DESCRIPTION:Evening conditioner to build fitness for scrambling and climbi
 ng.
LOCATION:West Tiger Mountain No. 3 Cable Line
URL:https://www.mountaineers.org/locations-lodges/seattle-branch/committee
 s/seattle-climbing-committee/seminars-clinics/climbing-conditioner-west-ti
 ger-mountain-no-3-cable-line-15
END:VEVENT
END:VCALENDAR
