BEGIN:VCALENDAR
VERSION:2.0
PRODID:-//Plone.org//NONSGML plone.app.event//EN
X-WR-TIMEZONE:US/Pacific
BEGIN:VEVENT
SUMMARY:Climbing Conditioner - West Tiger Mountain No. 3 Cable Line
DTSTART;VALUE=DATE:20250218
DTEND;VALUE=DATE:20250219
DTSTAMP;VALUE=DATE-TIME:20260425T042949Z
UID:d1a4e6b590da42c1b7debe91a610e549
CATEGORIES:Day Hiking
DESCRIPTION:Conditioning hike to build fitness for the climbing season
LOCATION:West Tiger Mountain No. 3 Cable Line
URL:https://www.mountaineers.org/locations-lodges/seattle-branch/committee
 s/seattle-climbing-committee/seminars-clinics/climbing-conditioner-west-ti
 ger-mountain-no-3-cable-line-13
END:VEVENT
END:VCALENDAR
