BEGIN:VCALENDAR
VERSION:2.0
PRODID:-//Plone.org//NONSGML plone.app.event//EN
X-WR-TIMEZONE:US/Pacific
BEGIN:VEVENT
SUMMARY:Climbing Conditioner - West Tiger Mountain No. 3 Cable Line
DTSTART;VALUE=DATE:20241224
DTEND;VALUE=DATE:20241225
DTSTAMP;VALUE=DATE-TIME:20260425T092101Z
UID:becb7f519403484d8fee0ca4eace3905
CATEGORIES:Day Hiking
DESCRIPTION:Squeeze in some elevation gain pre-Christmas up everyone’s l
 ove to hate conditioner: Cable Line!
LOCATION:West Tiger Mountain No. 3 Cable Line
URL:https://www.mountaineers.org/locations-lodges/seattle-branch/committee
 s/seattle-climbing-committee/seminars-clinics/climbing-conditioner-west-ti
 ger-mountain-no-3-cable-line-12
END:VEVENT
END:VCALENDAR
