BEGIN:VCALENDAR
VERSION:2.0
PRODID:-//Plone.org//NONSGML plone.app.event//EN
X-WR-TIMEZONE:US/Pacific
BEGIN:VEVENT
SUMMARY:Climbing Conditioner - West Tiger Mountain No. 3 Cable Line
DTSTART;VALUE=DATE:20240523
DTEND;VALUE=DATE:20240524
DTSTAMP;VALUE=DATE-TIME:20260422T222833Z
UID:401e61bcbd19425c8e2d46a45408d844
CATEGORIES:Climbing
DESCRIPTION:Morning climbing conditioner with priority for KC/DC SIG until
  Mon 5/20 at 8am - others please wait until then to register.
LOCATION:West Tiger Mountain No. 3 Cable Line
URL:https://www.mountaineers.org/locations-lodges/seattle-branch/committee
 s/seattle-climbing-committee/seminars-clinics/climbing-conditioner-west-ti
 ger-mountain-no-3-cable-line-11
END:VEVENT
END:VCALENDAR
