BEGIN:VCALENDAR
VERSION:2.0
PRODID:-//Plone.org//NONSGML plone.app.event//EN
X-WR-TIMEZONE:US/Pacific
BEGIN:VEVENT
SUMMARY:Climbing Conditioner - Section Line Trail
DTSTART;VALUE=DATE:20250402
DTEND;VALUE=DATE:20250403
DTSTAMP;VALUE=DATE-TIME:20260421T174445Z
UID:93136473e08c482a8a65e7b97963efe9
CATEGORIES:Climbing
DESCRIPTION:Evening conditioner at Tiger Mtn that isn't Cable Line.
LOCATION:Section Line Trail
URL:https://www.mountaineers.org/locations-lodges/seattle-branch/committee
 s/seattle-climbing-committee/seminars-clinics/climbing-conditioner-section
 -line-trail-3
END:VEVENT
END:VCALENDAR
