BEGIN:VCALENDAR
VERSION:2.0
PRODID:-//Plone.org//NONSGML plone.app.event//EN
X-WR-TIMEZONE:US/Pacific
BEGIN:VEVENT
SUMMARY:Climbing Conditioner - Poo Poo Point via Chirico Trail
DTSTART;VALUE=DATE:20250312
DTEND;VALUE=DATE:20250313
DTSTAMP;VALUE=DATE-TIME:20260424T181012Z
UID:ea69d94227cd4960ac160ba67197760e
CATEGORIES:Day Hiking
DESCRIPTION:Conditioner for Johnson SIG. Your registration will be cancell
 ed if you are not part of this group.
LOCATION:Poo Poo Point via Chirico Trail
URL:https://www.mountaineers.org/locations-lodges/seattle-branch/committee
 s/seattle-climbing-committee/seminars-clinics/climbing-conditioner-poo-poo
 -point-via-chirico-trail-13
END:VEVENT
END:VCALENDAR
