BEGIN:VCALENDAR
VERSION:2.0
PRODID:-//Plone.org//NONSGML plone.app.event//EN
X-WR-TIMEZONE:US/Pacific
BEGIN:VEVENT
SUMMARY:Climbing Conditioner - Mount Teneriffe-Mount Si Traverse
DTSTART;VALUE=DATE:20240517
DTEND;VALUE=DATE:20240518
DTSTAMP;VALUE=DATE-TIME:20260422T114214Z
UID:f93059fc471f4b64b00996e4d10c056f
CATEGORIES:Climbing
DESCRIPTION:Climbing conditioner for Seattle Intensive Basic students\, in
 structors\, and grads!
LOCATION:Mount Teneriffe-Mount Si Traverse
URL:https://www.mountaineers.org/locations-lodges/seattle-branch/committee
 s/seattle-climbing-committee/seminars-clinics/climbing-conditioner-mount-t
 eneriffe-mount-si-traverse
END:VEVENT
END:VCALENDAR
