BEGIN:VCALENDAR
VERSION:2.0
PRODID:-//Plone.org//NONSGML plone.app.event//EN
X-WR-TIMEZONE:US/Pacific
BEGIN:VEVENT
SUMMARY:Climbing Conditioner - Mount Si Old Trail
DTSTART;VALUE=DATE:20250111
DTEND;VALUE=DATE:20250112
DTSTAMP;VALUE=DATE-TIME:20260425T060135Z
UID:ee085aaba7d74012861c9ce0a94cbc4a
CATEGORIES:Day Hiking
DESCRIPTION:Conditioning hike & gear discussion for (MC)² SIG\, alumni\, 
 and friends. Other climbers and scramblers are welcome to join if there is
  space available.
LOCATION:Mount Si Old Trail
URL:https://www.mountaineers.org/locations-lodges/seattle-branch/committee
 s/seattle-climbing-committee/seminars-clinics/climbing-conditioner-mount-s
 i-old-trail-7
END:VEVENT
END:VCALENDAR
