BEGIN:VCALENDAR
VERSION:2.0
PRODID:-//Plone.org//NONSGML plone.app.event//EN
X-WR-TIMEZONE:US/Pacific
BEGIN:VEVENT
SUMMARY:Climbing Conditioner - Mount Si Old Trail
DTSTART;VALUE=DATE:20240414
DTEND;VALUE=DATE:20240415
DTSTAMP;VALUE=DATE-TIME:20260422T031532Z
UID:f3ae8b2076fb42ea968303140691fe0a
CATEGORIES:Climbing
DESCRIPTION:Conditioner for students.
LOCATION:Mount Si Old Trail
URL:https://www.mountaineers.org/locations-lodges/seattle-branch/committee
 s/seattle-climbing-committee/seminars-clinics/climbing-conditioner-mount-s
 i-old-trail-6
END:VEVENT
END:VCALENDAR
