BEGIN:VCALENDAR
VERSION:2.0
PRODID:-//Plone.org//NONSGML plone.app.event//EN
X-WR-TIMEZONE:US/Pacific
BEGIN:VEVENT
SUMMARY:Climbing Conditioner - Mount Si Old Trail
DTSTART;VALUE=DATE:20250409
DTEND;VALUE=DATE:20250410
DTSTAMP;VALUE=DATE-TIME:20260421T032056Z
UID:7fb9ac7c50154b2aa94edadc5d35f6e5
CATEGORIES:Climbing
DESCRIPTION:After work conditioning hike for climbers and scramblers to bu
 ild fitness - HEADLAMP REQUIRED!
LOCATION:Mount Si Old Trail
URL:https://www.mountaineers.org/locations-lodges/seattle-branch/committee
 s/seattle-climbing-committee/seminars-clinics/climbing-conditioner-mount-s
 i-old-trail-14
END:VEVENT
END:VCALENDAR
