BEGIN:VCALENDAR
VERSION:2.0
PRODID:-//Plone.org//NONSGML plone.app.event//EN
X-WR-TIMEZONE:US/Pacific
BEGIN:VEVENT
SUMMARY:Climbing Conditioner - Mount Si Old Trail
DTSTART;VALUE=DATE:20250309
DTEND;VALUE=DATE:20250310
DTSTAMP;VALUE=DATE-TIME:20260424T130501Z
UID:3c2dc1055b394a42832edfcbbefe510e
CATEGORIES:Day Hiking
DESCRIPTION:An old Si conditioner for climbing/scrambling course students 
 and graduates\, preferably folks familiar with the trail. Note that daylig
 ht savings time is happening!
LOCATION:Mount Si Old Trail
URL:https://www.mountaineers.org/locations-lodges/seattle-branch/committee
 s/seattle-climbing-committee/seminars-clinics/climbing-conditioner-mount-s
 i-old-trail-13
END:VEVENT
END:VCALENDAR
