BEGIN:VCALENDAR
VERSION:2.0
PRODID:-//Plone.org//NONSGML plone.app.event//EN
X-WR-TIMEZONE:US/Pacific
BEGIN:VEVENT
SUMMARY:Climbing Conditioner - Mount Si Old Trail
DTSTART;VALUE=DATE:20250301
DTEND;VALUE=DATE:20250302
DTSTAMP;VALUE=DATE-TIME:20260424T194957Z
UID:537dcc35686c4262b605122be7132757
CATEGORIES:Day Hiking
DESCRIPTION:Conditioning hike to the viewpoint.
LOCATION:Mount Si Old Trail
URL:https://www.mountaineers.org/locations-lodges/seattle-branch/committee
 s/seattle-climbing-committee/seminars-clinics/climbing-conditioner-mount-s
 i-old-trail-11
END:VEVENT
END:VCALENDAR
