BEGIN:VCALENDAR
VERSION:2.0
PRODID:-//Plone.org//NONSGML plone.app.event//EN
X-WR-TIMEZONE:US/Pacific
BEGIN:VEVENT
SUMMARY:Climbing Conditioner - Mount Si Main Trail
DTSTART;VALUE=DATE:20250429
DTEND;VALUE=DATE:20250430
DTSTAMP;VALUE=DATE-TIME:20260421T161116Z
UID:95e1fb2ff1e043bb931ab07d2a9181b6
CATEGORIES:Climbing
DESCRIPTION:Conditioner for KC SIG. Others\, please wait until 2 weeks bef
 ore then request leader permission.
LOCATION:Mount Si Main Trail
URL:https://www.mountaineers.org/locations-lodges/seattle-branch/committee
 s/seattle-climbing-committee/seminars-clinics/climbing-conditioner-mount-s
 i-main-trail-25
END:VEVENT
END:VCALENDAR
