BEGIN:VCALENDAR
VERSION:2.0
PRODID:-//Plone.org//NONSGML plone.app.event//EN
X-WR-TIMEZONE:US/Pacific
BEGIN:VEVENT
SUMMARY:Climbing Conditioner - Mount Si Main Trail
DTSTART;VALUE=DATE:20240928
DTEND;VALUE=DATE:20240929
DTSTAMP;VALUE=DATE-TIME:20260425T064307Z
UID:84998245f72b44beb85b2bafee98cd58
CATEGORIES:Climbing
DESCRIPTION:smoot 69
LOCATION:Mount Si Main Trail
URL:https://www.mountaineers.org/locations-lodges/seattle-branch/committee
 s/seattle-climbing-committee/seminars-clinics/climbing-conditioner-mount-s
 i-main-trail-24
END:VEVENT
END:VCALENDAR
