BEGIN:VCALENDAR
VERSION:2.0
PRODID:-//Plone.org//NONSGML plone.app.event//EN
X-WR-TIMEZONE:US/Pacific
BEGIN:VEVENT
SUMMARY:Climbing Conditioner - Mount Si Main Trail
DTSTART;VALUE=DATE:20240430
DTEND;VALUE=DATE:20240501
DTSTAMP;VALUE=DATE-TIME:20260421T171216Z
UID:5949271a031e4b5baeabee05b90b7103
CATEGORIES:Climbing
DESCRIPTION:After work conditioning hike and time trial opportunity. Prior
 ity to Seattle Basic Alpine Climbing students until 4/16.
LOCATION:Mount Si Main Trail
URL:https://www.mountaineers.org/locations-lodges/seattle-branch/committee
 s/seattle-climbing-committee/seminars-clinics/climbing-conditioner-mount-s
 i-main-trail-22
END:VEVENT
END:VCALENDAR
