BEGIN:VCALENDAR
VERSION:2.0
PRODID:-//Plone.org//NONSGML plone.app.event//EN
X-WR-TIMEZONE:US/Pacific
BEGIN:VEVENT
SUMMARY:Climbing Conditioner - Mount Si Main Trail
DTSTART;VALUE=DATE:20240320
DTEND;VALUE=DATE:20240321
DTSTAMP;VALUE=DATE-TIME:20260421T062542Z
UID:ddd25f9e9f9d490f94d1becfb2febed8
CATEGORIES:Climbing
DESCRIPTION:Mt Si pre-time trial. Johnson SIG only until 03/14\, all Basic
  students welcomed after. Bring full packs\, let all that hard work show!
LOCATION:Mount Si Main Trail
URL:https://www.mountaineers.org/locations-lodges/seattle-branch/committee
 s/seattle-climbing-committee/seminars-clinics/climbing-conditioner-mount-s
 i-main-trail-21
END:VEVENT
END:VCALENDAR
