BEGIN:VCALENDAR
VERSION:2.0
PRODID:-//Plone.org//NONSGML plone.app.event//EN
X-WR-TIMEZONE:US/Pacific
BEGIN:VEVENT
SUMMARY:Climbing Conditioner - Mailbox Peak
DTSTART;VALUE=DATE:20250410
DTEND;VALUE=DATE:20250411
DTSTAMP;VALUE=DATE-TIME:20260421T144222Z
UID:87bb32e71b974bbaa1240a09393bfbf8
CATEGORIES:Climbing
DESCRIPTION:Conditioning hike primarily intended for KC SIG and surroundin
 g community.
LOCATION:Mailbox Peak
URL:https://www.mountaineers.org/locations-lodges/seattle-branch/committee
 s/seattle-climbing-committee/seminars-clinics/climbing-conditioner-mailbox
 -peak-8
END:VEVENT
END:VCALENDAR
