BEGIN:VCALENDAR
VERSION:2.0
PRODID:-//Plone.org//NONSGML plone.app.event//EN
X-WR-TIMEZONE:US/Pacific
BEGIN:VEVENT
SUMMARY:Climbing Conditioner - Mailbox Peak
DTSTART;VALUE=DATE:20241231
DTEND;VALUE=DATE:20250101
DTSTAMP;VALUE=DATE-TIME:20260425T105815Z
UID:fdc745510778415c95e0db249640cb06
CATEGORIES:Day Hiking
DESCRIPTION:End the year with some elevation gain up and down old mailbox.
LOCATION:Mailbox Peak
URL:https://www.mountaineers.org/locations-lodges/seattle-branch/committee
 s/seattle-climbing-committee/seminars-clinics/climbing-conditioner-mailbox
 -peak-7
END:VEVENT
END:VCALENDAR
