BEGIN:VCALENDAR
VERSION:2.0
PRODID:-//Plone.org//NONSGML plone.app.event//EN
X-WR-TIMEZONE:US/Pacific
BEGIN:VEVENT
SUMMARY:Climbing Conditioner - Mailbox Peak
DTSTART;VALUE=DATE:20240529
DTEND;VALUE=DATE:20240530
DTSTAMP;VALUE=DATE-TIME:20260423T025231Z
UID:cdc75bdce7034401a867ff317a5402de
CATEGORIES:Climbing
DESCRIPTION:Evening conditioner with priority for KC/DC SIG until Mon 5/27
  at 8am - others please wait until then to register.
LOCATION:Mailbox Peak
URL:https://www.mountaineers.org/locations-lodges/seattle-branch/committee
 s/seattle-climbing-committee/seminars-clinics/climbing-conditioner-mailbox
 -peak-6
END:VEVENT
END:VCALENDAR
