BEGIN:VCALENDAR
VERSION:2.0
PRODID:-//Plone.org//NONSGML plone.app.event//EN
X-WR-TIMEZONE:US/Pacific
BEGIN:VEVENT
SUMMARY:Climbing Conditioner - Mailbox Peak
DTSTART;VALUE=DATE:20240411
DTEND;VALUE=DATE:20240412
DTSTAMP;VALUE=DATE-TIME:20260421T234751Z
UID:442ca66db18746f98e0dfc2210076b22
CATEGORIES:Climbing
DESCRIPTION:Evening conditioning on Mailbox Peak.
LOCATION:Mailbox Peak
URL:https://www.mountaineers.org/locations-lodges/seattle-branch/committee
 s/seattle-climbing-committee/seminars-clinics/climbing-conditioner-mailbox
 -peak-5
END:VEVENT
END:VCALENDAR
