BEGIN:VCALENDAR
VERSION:2.0
PRODID:-//Plone.org//NONSGML plone.app.event//EN
X-WR-TIMEZONE:US/Pacific
BEGIN:VEVENT
SUMMARY:Climbing Conditioner - Magnuson Park
DTSTART;VALUE=DATE:20240520
DTEND;VALUE=DATE:20240521
DTSTAMP;VALUE=DATE-TIME:20260422T210316Z
UID:c9926fe0a66c48129241180feeb959b5
CATEGORIES:Climbing
DESCRIPTION:Final skills night for MC SIG where we will practice crevasse 
 rescue and do a mock eval.
LOCATION:Magnuson Park
URL:https://www.mountaineers.org/locations-lodges/seattle-branch/committee
 s/seattle-climbing-committee/seminars-clinics/climbing-conditioner-magnuso
 n-park-1
END:VEVENT
END:VCALENDAR
