BEGIN:VCALENDAR
VERSION:2.0
PRODID:-//Plone.org//NONSGML plone.app.event//EN
X-WR-TIMEZONE:US/Pacific
BEGIN:VEVENT
SUMMARY:Climbing Conditioner - Little Si
DTSTART;VALUE=DATE:20250401
DTEND;VALUE=DATE:20250402
DTSTAMP;VALUE=DATE-TIME:20260421T210906Z
UID:b617b4df548e45978207c317e8ae2b5c
CATEGORIES:Climbing,Scrambling
DESCRIPTION:After work conditioning hike for climbers and scramblers to bu
 ild fitness for the climbing season!
LOCATION:Little Si
URL:https://www.mountaineers.org/locations-lodges/seattle-branch/committee
 s/seattle-climbing-committee/seminars-clinics/climbing-conditioner-little-
 si-4
END:VEVENT
END:VCALENDAR
