BEGIN:VCALENDAR
VERSION:2.0
PRODID:-//Plone.org//NONSGML plone.app.event//EN
X-WR-TIMEZONE:US/Pacific
BEGIN:VEVENT
SUMMARY:Climbing Conditioner - Little Si
DTSTART;VALUE=DATE:20240312
DTEND;VALUE=DATE:20240313
DTSTAMP;VALUE=DATE-TIME:20260421T045550Z
UID:aa222f80873243719d0f3dfe808bac44
CATEGORIES:Climbing,Scrambling
DESCRIPTION:After-work conditioning hike to build fitness for the climbing
  season.
LOCATION:Little Si
URL:https://www.mountaineers.org/locations-lodges/seattle-branch/committee
 s/seattle-climbing-committee/seminars-clinics/climbing-conditioner-little-
 si-3
END:VEVENT
END:VCALENDAR
