BEGIN:VCALENDAR
VERSION:2.0
PRODID:-//Plone.org//NONSGML plone.app.event//EN
X-WR-TIMEZONE:US/Pacific
BEGIN:VEVENT
SUMMARY:Climbing Conditioner - Little Si
DTSTART;VALUE=DATE:20240228
DTEND;VALUE=DATE:20240229
DTSTAMP;VALUE=DATE-TIME:20260421T031835Z
UID:1f3875bf36cc4cef899475cc872113de
CATEGORIES:Climbing,Scrambling
DESCRIPTION:After-work conditioning hike to build fitness for the climbing
  season.
LOCATION:Little Si
URL:https://www.mountaineers.org/locations-lodges/seattle-branch/committee
 s/seattle-climbing-committee/seminars-clinics/climbing-conditioner-little-
 si-2
END:VEVENT
END:VCALENDAR
