BEGIN:VCALENDAR
VERSION:2.0
PRODID:-//Plone.org//NONSGML plone.app.event//EN
X-WR-TIMEZONE:US/Pacific
BEGIN:VEVENT
SUMMARY:Climbing Conditioner - Howe Stairs
DTSTART;VALUE=DATE:20250423
DTEND;VALUE=DATE:20250424
DTSTAMP;VALUE=DATE-TIME:20260424T063248Z
UID:edde391f2e4e4678961deae4adfc0bc5
CATEGORIES:Day Hiking
DESCRIPTION:Informal conditioning series to run until end of June. Heavy p
 acks April to June.
LOCATION:Howe Stairs
URL:https://www.mountaineers.org/locations-lodges/seattle-branch/committee
 s/seattle-climbing-committee/seminars-clinics/climbing-conditioner-howe-st
 airs-31
END:VEVENT
END:VCALENDAR
