BEGIN:VCALENDAR
VERSION:2.0
PRODID:-//Plone.org//NONSGML plone.app.event//EN
X-WR-TIMEZONE:US/Pacific
BEGIN:VEVENT
SUMMARY:Climbing Conditioner - Howe Stairs
DTSTART;VALUE=DATE:20250416
DTEND;VALUE=DATE:20250417
DTSTAMP;VALUE=DATE-TIME:20260424T083937Z
UID:5787aae65e334e88a717b3bb54b7a9f5
CATEGORIES:Day Hiking
DESCRIPTION:Informal conditioning series to run until end of June. Heavy p
 acks April to June.
LOCATION:Howe Stairs
URL:https://www.mountaineers.org/locations-lodges/seattle-branch/committee
 s/seattle-climbing-committee/seminars-clinics/climbing-conditioner-howe-st
 airs-30
END:VEVENT
END:VCALENDAR
